Workbook

Sheet Sheet2
A1: 东至至鄱阳高速公路安徽段项目建设范围内房屋征收补偿结果公示表
A2: 序号 | B2: 户主姓名 | C2: 身份证号 | D2: 房屋坐落（镇、村、组） | E2: 主房补偿情况 | G2: 附属房及其他建筑补偿情况 | I2: 室内外装修装饰及其他附属物补偿情况 | J2: 房屋补偿价值总计（万元） | K2: 选择安置方式 | L2: 备注
E3: 面积 （平方米） | F3: 金额（万元） | G3: 数量 （平方米） | H3: 金额（万元） | I3: 金额（万元）
A4: 1 | B4: 程*峰 | C4: 342921********0618 | D4: 泥溪镇隐东村老观组 | E4: 72.16 | F4: 7.6995 | G4: =[1]泥溪镇合计!O4+[1]泥溪镇合计!Q4 -> 0 | H4: =[1]泥溪镇合计!P4+[1]泥溪镇合计!R4 -> 0 | I4: 1.714 | J4: =F4+H4+I4 -> 9.4135 | K4: 房票安置
A5: 2 | B5: 汪*庭 | C5: 342829********0614 | D5: 泥溪镇隐东村老观组 | E5: 149.63 | F5: 18.2993 | G5: =[1]泥溪镇合计!O5+[1]泥溪镇合计!Q5 -> 91.31 | H5: =[1]泥溪镇合计!P5+[1]泥溪镇合计!R5 -> 3.3052 | I5: 4.8738 | J5: =F5+H5+I5 -> 26.4783 | K5: 房票安置
A6: 3 | B6: 汪*停 | C6: 342829********0618 | D6: 泥溪镇隐东村老观组 | E6: 96.39 | F6: 9.5426 | G6: =[1]泥溪镇合计!O6+[1]泥溪镇合计!Q6 -> 95.38 | H6: =[1]泥溪镇合计!P6+[1]泥溪镇合计!R6 -> 2.7009 | I6: 1.1943 | J6: =F6+H6+I6 -> 13.4378 | K6: 房票安置
A7: 4 | B7: 郑*祥 | C7: 342829********0630 | D7: 泥溪镇隐东村利溪组 | E7: 96.5 | F7: 7.4305 | G7: =[1]泥溪镇合计!O7+[1]泥溪镇合计!Q7 -> 0 | H7: =[1]泥溪镇合计!P7+[1]泥溪镇合计!R7 -> 0 | I7: 0.1925 | J7: =F7+H7+I7 -> 7.623 | K7: 房票安置
A8: 5 | B8: 沈*良 | C8: 342921********0613 | D8: 泥溪镇隐东村利溪组 | E8: 199.12 | F8: 26.1864 | G8: =[1]泥溪镇合计!O8+[1]泥溪镇合计!Q8 -> 62.545 | H8: =[1]泥溪镇合计!P8+[1]泥溪镇合计!R8 -> 1.3109 | I8: 11.3476 | J8: =F8+H8+I8 -> 38.8449 | K8: 房票安置
A9: 6 | B9: 王*林 | C9: 342829********0610 | D9: 泥溪镇隐东村石痕组 | E9: 198.42 | F9: 27.6234 | G9: =[1]泥溪镇合计!O9+[1]泥溪镇合计!Q9 -> 44.85 | H9: =[1]泥溪镇合计!P9+[1]泥溪镇合计!R9 -> 0.8073 | I9: 14.6798 | J9: =F9+H9+I9 -> 43.1105 | K9: 房票安置
A10: 7 | B10: 王*才 | C10: 342829********0618 | D10: 泥溪镇隐东村石痕组 | E10: 230.16 | F10: 30.2891 | G10: =[1]泥溪镇合计!O10+[1]泥溪镇合计!Q10 -> 72.02 | H10: =[1]泥溪镇合计!P10+[1]泥溪镇合计!R10 -> 2.0747 | I10: 6.8716 | J10: =F10+H10+I10 -> 39.2354 | K10: 房票安置
A11: 8 | B11: 王*兵 | C11: 342829********0639 | D11: 泥溪镇隐东村石痕组 | E11: 358.04 | F11: 49.5574 | G11: =[1]泥溪镇合计!O11+[1]泥溪镇合计!Q11 -> 177.71 | H11: =[1]泥溪镇合计!P11+[1]泥溪镇合计!R11 -> 6.2364 | I11: 27.077 | J11: =F11+H11+I11 -> 82.8708 | K11: 房票安置
A12: 9 | B12: 沈*英 | C12: 342829********0612 | D12: 泥溪镇隐东村利溪组 | E12: 135.62 | F12: 10.4427 | G12: =[1]泥溪镇合计!O12+[1]泥溪镇合计!Q12 -> 0 | H12: =[1]泥溪镇合计!P12+[1]泥溪镇合计!R12 -> 0 | I12: 1.6298 | J12: =F12+H12+I12 -> 12.0725 | K12: 房票安置
A13: 10 | B13: 沈*良 | C13: 342921********0614 | D13: 泥溪镇隐东村利溪组 | E13: 189.91 | F13: 24.9653 | G13: =[1]泥溪镇合计!O13+[1]泥溪镇合计!Q13 -> 130.59 | H13: =[1]泥溪镇合计!P13+[1]泥溪镇合计!R13 -> 4.0327 | I13: 11.1236 | J13: =F13+H13+I13 -> 40.1216 | K13: 房票安置
A14: 11 | B14: 沈*新 | C14: 342921********0614 | D14: 泥溪镇隐东村利溪组 | E14: 293.69 | F14: 37.7102 | G14: =[1]泥溪镇合计!O14+[1]泥溪镇合计!Q14 -> 136.87 | H14: =[1]泥溪镇合计!P14+[1]泥溪镇合计!R14 -> 4.5279 | I14: 14.5259 | J14: =F14+H14+I14 -> 56.764 | K14: 房票安置
A15: 12 | B15: 沈*茂 | C15: 342829********0611 | D15: 泥溪镇隐东村利溪组 | E15: 242.31 | F15: 33.6534 | G15: =[1]泥溪镇合计!O15+[1]泥溪镇合计!Q15 -> 98.675 | H15: =[1]泥溪镇合计!P15+[1]泥溪镇合计!R15 -> 3.947 | I15: 14.4514 | J15: =F15+H15+I15 -> 52.0518 | K15: 房票安置
... A30: 27 | B30: 柏*和 | C30: 342829********0613 | D30: 泥溪镇隐东村柏村组 | E30: 239.87 | F30: 23.8021 | G30: =[1]泥溪镇合计!O30+[1]泥溪镇合计!Q30 -> 115.74 | H30: =[1]泥溪镇合计!P30+[1]泥溪镇合计!R30 -> 2.4321 | I30: 6.4226 | J30: =F30+H30+I30 -> 32.6568 | K30: 房票安置
A31: 28 | B31: 齐*飞 | C31: 342921********0635 | D31: 泥溪镇隐东村古塔组 | E31: 0 | G31: =[1]泥溪镇合计!O31+[1]泥溪镇合计!Q31 -> 120.18 | H31: =[1]泥溪镇合计!P31+[1]泥溪镇合计!R31 -> 1.8027 | I31: 0.7812 | J31: =F31+H31+I31 -> 2.5839 | K31: 货币化
A32: 29 | B32: 陈*娟 | C32: 342829********0628 | D32: 泥溪镇隐东村脉络组 | E32: 0 | G32: =[1]泥溪镇合计!O32+[1]泥溪镇合计!Q32 -> 14.17 | H32: =[1]泥溪镇合计!P32+[1]泥溪镇合计!R32 -> 0.5668 | I32: 0.0682 | J32: =F32+H32+I32 -> 0.635 | K32: 货币化
A33: 30 | B33: 何*志 | C33: 342921********061X | D33: 泥溪镇隐东村柏村组 | E33: 0 | G33: =[1]泥溪镇合计!O33+[1]泥溪镇合计!Q33 -> 0 | H33: =[1]泥溪镇合计!P33+[1]泥溪镇合计!R33 -> 0 | I33: 2.7394 | J33: =F33+H33+I33 -> 2.7394 | K33: 货币化
A34: 31 | B34: 柏* | C34: 342829********063X | D34: 泥溪镇隐东村柏村组 | E34: 0 | G34: =[1]泥溪镇合计!O34+[1]泥溪镇合计!Q34 -> 33.63 | H34: =[1]泥溪镇合计!P34+[1]泥溪镇合计!R34 -> 1.3452 | I34: 0.3841 | J34: =F34+H34+I34 -> 1.7293 | K34: 货币化
A35: 32 | B35: 柏*能 | C35: 342829********0611 | D35: 泥溪镇隐东村柏村组 | E35: 0 | G35: =[1]泥溪镇合计!O35+[1]泥溪镇合计!Q35 -> 33.95 | H35: =[1]泥溪镇合计!P35+[1]泥溪镇合计!R35 -> 1.358 | I35: 1.1791 | J35: =F35+H35+I35 -> 2.5371 | K35: 货币化
A36: 33 | B36: 杨*斤 | C36: 342829********0618 | D36: 泥溪镇双龙村虎领组 | E36: 92.84 | F36: 9.906 | G36: =[1]泥溪镇合计!O36+[1]泥溪镇合计!Q36 -> 6.16 | H36: =[1]泥溪镇合计!P36+[1]泥溪镇合计!R36 -> 0.2464 | I36: 2.4059 | J36: =F36+H36+I36 -> 12.5583 | K36: 房票安置
A37: 34 | B37: 薛*生 | C37: 342829********0415 | D37: 泥溪镇中洲村许家组 | E37: 274.13 | F37: 28.345 | G37: =[1]泥溪镇合计!O37+[1]泥溪镇合计!Q37 -> 107.02 | H37: =[1]泥溪镇合计!P37+[1]泥溪镇合计!R37 -> 3.4901 | I37: 4.6405 | J37: =F37+H37+I37 -> 36.4756 | K37: 安置点自建房
A38: 35 | B38: 李*斌 | C38: 342829********0423 | D38: 泥溪镇中洲村许家组 | E38: 257.74 | F38: 25.5163 | G38: =[1]泥溪镇合计!O38+[1]泥溪镇合计!Q38 -> 141.38 | H38: =[1]泥溪镇合计!P38+[1]泥溪镇合计!R38 -> 4.8677 | I38: 6.975 | J38: =F38+H38+I38 -> 37.359 | K38: 安置点自建房
A39: 36 | B39: 张*德 | C39: 342829********0417 | D39: 泥溪镇中洲村许家组 | E39: 201.2 | F39: 19.9188 | G39: =[1]泥溪镇合计!O39+[1]泥溪镇合计!Q39 -> 109.09 | H39: =[1]泥溪镇合计!P39+[1]泥溪镇合计!R39 -> 2.3215 | I39: 4.223 | J39: =F39+H39+I39 -> 26.4633 | K39: 安置点自建房
A40: 37 | B40: 许*榜 | C40: 342829********0418 | D40: 泥溪镇中洲村许家组 | E40: 172.3 | F40: 17.0577 | G40: =[1]泥溪镇合计!O40+[1]泥溪镇合计!Q40 -> 68.85 | H40: =[1]泥溪镇合计!P40+[1]泥溪镇合计!R40 -> 1.9839 | I40: 3.8324 | J40: =F40+H40+I40 -> 22.874 | K40: 安置点自建房
A41: 38 | B41: 彭*进 | C41: 342829********0417 | D41: 泥溪镇中洲村许家组 | E41: 261.52 | F41: 25.8905 | G41: =[1]泥溪镇合计!O41+[1]泥溪镇合计!Q41 -> 160.45 | H41: =[1]泥溪镇合计!P41+[1]泥溪镇合计!R41 -> 3.9929 | I41: 5.7388 | J41: =F41+H41+I41 -> 35.6222 | K41: 安置点自建房
A42: 39 | B42: 许*保 | C42: 342829********0417 | D42: 泥溪镇中洲村许家组 | E42: 170.54 | F42: 16.8835 | G42: =[1]泥溪镇合计!O42+[1]泥溪镇合计!Q42 -> 79.14 | H42: =[1]泥溪镇合计!P42+[1]泥溪镇合计!R42 -> 1.4245 | I42: 2.8515 | J42: =F42+H42+I42 -> 21.1595 | K42: 安置点自建房
A43: 40 | B43: 许*昌 | C43: 342829********0415 | D43: 泥溪镇中洲村许家组 | E43: 190.87 | F43: 20.017 | G43: =[1]泥溪镇合计!O43+[1]泥溪镇合计!Q43 -> 127.53 | H43: =[1]泥溪镇合计!P43+[1]泥溪镇合计!R43 -> 5.0094 | I43: 5.571 | J43: =F43+H43+I43 -> 30.5974 | K43: 安置点自建房
A44: 41 | B44: 许*昌 | C44: 342829********0419 | D44: 泥溪镇中洲村许家组 | E44: 247.28 | F44: 25.5688 | G44: =[1]泥溪镇合计!O44+[1]泥溪镇合计!Q44 -> 156.515 | H44: =[1]泥溪镇合计!P44+[1]泥溪镇合计!R44 -> 4.0758 | I44: 7.9343 | J44: =F44+H44+I44 -> 37.5789 | K44: 安置点自建房
A45: 42 | B45: 许*昌 | C45: 342829********0417 | D45: 泥溪镇中洲村许家组 | E45: 221.42 | F45: 22.0944 | G45: =[1]泥溪镇合计!O45+[1]泥溪镇合计!Q45 -> 117.47 | H45: =[1]泥溪镇合计!P45+[1]泥溪镇合计!R45 -> 3.3011 | I45: 9.4293 | J45: =F45+H45+I45 -> 34.8248 | K45: 安置点自建房
A46: 43 | B46: 张*义 | C46: 342921********0414 | D46: 泥溪镇中洲村林场组 | E46: 442.29 | F46: 59.3294 | G46: =[1]泥溪镇合计!O46+[1]泥溪镇合计!Q46 -> 151.53 | H46: =[1]泥溪镇合计!P46+[1]泥溪镇合计!R46 -> 2.1455 | I46: 16.213 | J46: =F46+H46+I46 -> 77.6879 | K46: 安置点自建房
A47: 44 | B47: 集体管理用房 | D47: 泥溪镇中洲村许家组 | E47: 29.43 | F47: 3.2373 | G47: =[1]泥溪镇合计!O47+[1]泥溪镇合计!Q47 -> 0 | H47: =[1]泥溪镇合计!P47+[1]泥溪镇合计!R47 -> 0 | I47: 1.7324 | J47: =F47+H47+I47 -> 4.9697 | K47: 安置点自建房
A48: 45 | B48: 许*孝 | C48: 342829********0431 | D48: 泥溪镇中洲村许家组 | E48: 164.95 | F48: 17.3106 | G48: =[1]泥溪镇合计!O48+[1]泥溪镇合计!Q48 -> 92.19 | H48: =[1]泥溪镇合计!P48+[1]泥溪镇合计!R48 -> 2.9944 | I48: 5.5917 | J48: =F48+H48+I48 -> 25.8967 | K48: 安置点自建房
A49: 46 | B49: 张*进 | C49: 342921********0417 | D49: 泥溪镇中洲村许家组 | E49: 442.61 | F49: 58.462 | G49: =[1]泥溪镇合计!O49+[1]泥溪镇合计!Q49 -> 68.42 | H49: =[1]泥溪镇合计!P49+[1]泥溪镇合计!R49 -> 1.9284 | I49: 24.4736 | J49: =F49+H49+I49 -> 84.864 | K49: 安置点自建房
A50: 47 | B50: 许*国 | C50: 342829********0417 | D50: 泥溪镇中洲村许家组 | E50: 181.5 | F50: 18.7671 | G50: =[1]泥溪镇合计!O50+[1]泥溪镇合计!Q50 -> 162.54 | H50: =[1]泥溪镇合计!P50+[1]泥溪镇合计!R50 -> 4.3777 | I50: 9.5689 | J50: =F50+H50+I50 -> 32.7137 | K50: 安置点自建房
A51: 48 | B51: 李*明 | C51: 342921********0413 | D51: 泥溪镇中洲村许家组 | E51: 531.45 | F51: 60.9071 | G51: =[1]泥溪镇合计!O51+[1]泥溪镇合计!Q51 -> 76.89 | H51: =[1]泥溪镇合计!P51+[1]泥溪镇合计!R51 -> 2.1145 | I51: 17.6645 | J51: =F51+H51+I51 -> 80.6861 | K51: 安置点自建房
A52: 49 | B52: 许*祥 | C52: 342829********0418 | D52: 泥溪镇中洲村许家组 | E52: 865.83 | F52: 113.5494 | G52: =[1]泥溪镇合计!O52+[1]泥溪镇合计!Q52 -> 66.82 | H52: =[1]泥溪镇合计!P52+[1]泥溪镇合计!R52 -> 2.3128 | I52: 54.4753 | J52: =F52+H52+I52 -> 170.3375 | K52: 安置点自建房
A53: 50 | B53: 陈*山 | C53: 342829********0412 | D53: 泥溪镇中洲村林场组 | E53: 0 | G53: =[1]泥溪镇合计!O53+[1]泥溪镇合计!Q53 -> 28.56 | H53: =[1]泥溪镇合计!P53+[1]泥溪镇合计!R53 -> 0.5712 | I53: 0.1425 | J53: =F53+H53+I53 -> 0.7137 | K53: 货币化
A54: 51 | B54: 吴*忠 | C54: 342921********0419 | D54: 泥溪镇中洲村林场组 | E54: 0 | G54: =[1]泥溪镇合计!O54+[1]泥溪镇合计!Q54 -> 0 | H54: =[1]泥溪镇合计!P54+[1]泥溪镇合计!R54 -> 0 | I54: 12.8 | J54: =F54+H54+I54 -> 12.8 | K54: 货币化
A55: 公示单位：东至县房屋征收服务中心 | H55: 县纪委监委监督电话：0566-7026613
